BEGIN:VCALENDAR
VERSION:2.0
PRODID:-//Jüdische Kulturtage Sachsen-Anhalt - ECPv6.2.6//NONSGML v1.0//EN
CALSCALE:GREGORIAN
METHOD:PUBLISH
X-ORIGINAL-URL:https://archiv2023.jkt-sachsen-anhalt.de
X-WR-CALDESC:Veranstaltungen für Jüdische Kulturtage Sachsen-Anhalt
REFRESH-INTERVAL;VALUE=DURATION:PT1H
X-Robots-Tag:noindex
X-PUBLISHED-TTL:PT1H
BEGIN:VTIMEZONE
TZID:Europe/Berlin
BEGIN:DAYLIGHT
TZOFFSETFROM:+0100
TZOFFSETTO:+0200
TZNAME:CEST
DTSTART:20230326T010000
END:DAYLIGHT
BEGIN:STANDARD
TZOFFSETFROM:+0200
TZOFFSETTO:+0100
TZNAME:CET
DTSTART:20231029T010000
END:STANDARD
END:VTIMEZONE
BEGIN:VEVENT
DTSTART;TZID=Europe/Berlin:20230618T140000
DTEND;TZID=Europe/Berlin:20230618T170000
DTSTAMP:20260421T180427
CREATED:20230607T115024Z
LAST-MODIFIED:20230607T131018Z
UID:10000034-1687096800-1687107600@archiv2023.jkt-sachsen-anhalt.de
SUMMARY:Stadtrundgang durch das jüdische Halberstadt
DESCRIPTION:Die Halberstädter Stadttopografie erlaubt es uns noch heute\, die Geschichte der Jüdinnen:Juden als einer religiösen Minderheit in der Stadt beispielhaft für den deutschsprachigen Raum nachzuvollziehen. Beim „Stadtrundgang durch das jüdische Halberstadt“ wird gezeigt\, wie Jüdinnen:Juden in Halberstadt lebten und als aktive Bürger:innen die Stadt mitgestalteten. \n\n\n\nDie Führung dauert in etwa 150 Minuten
URL:https://archiv2023.jkt-sachsen-anhalt.de/veranstaltung/stadtrundgang-durch-das-juedische-halberstadt/
LOCATION:Klaussynagoge\, Rosenwinkel 18\, Halberstadt\, 38820\, Deutschland
CATEGORIES:Führung
ATTACH;FMTTYPE=image/jpeg:https://archiv2023.jkt-sachsen-anhalt.de/wp-content/uploads/2023/06/BLM_1.jpg
END:VEVENT
BEGIN:VEVENT
DTSTART;TZID=Europe/Berlin:20230618T180000
DTEND;TZID=Europe/Berlin:20230618T200000
DTSTAMP:20260421T180427
CREATED:20230515T111734Z
LAST-MODIFIED:20230515T111735Z
UID:10000019-1687111200-1687118400@archiv2023.jkt-sachsen-anhalt.de
SUMMARY:Victor Tsessarskiy und Freunde. Ein jüdisches Leben in der Musik
DESCRIPTION:Anlässlich Victor Tsessarskiys baldigen 90. Geburtstages werden Freund:innen und Weggefährt:innen einen Konzertabend gestalten. \n\n\n\nZur musikalischen Unterhaltung tragen unter anderem Alexander Goldenberg (Piano)\, Juri Zemski (Gesang)\, Akim Camara (Geige) und Katrin Schinköth-Haase (Gesang) bei. Begleitet von Piano und Violine erklingen die Lieder verschiedener Genre in deutscher\, jiddischer\, hebräischer\, ukrainischer und russischer Sprache. \n\n\n\nVictor Tsessarskiy ist Sänger und Autor des 2019 in deutscher und russischer Sprache erschienenen Buches „Die Katastrophe“. Das Buch erzählt von seiner persönlichen Lebensgeschichte. Als Kind konnte er dem Minsker Ghettos entfliehen und überleben.  \n\n\n\nFreuen Sie sich auf einen Abend\, an dem ein jüdisches Leben durch unterschiedliche musikalische Facetten der Sprachen widerspiegelt wird. 
URL:https://archiv2023.jkt-sachsen-anhalt.de/veranstaltung/victor-tsessarskiy-und-freunde-ein-juedisches-leben-in-der-musik/
LOCATION:Stadtmuseum Christian-Wolff-Haus\, Große Märkerstraße 10\, Halle\, 06108\, Deutschland
CATEGORIES:Konzert
END:VEVENT
END:VCALENDAR