BEGIN:VCALENDAR
VERSION:2.0
PRODID:-//Jüdische Kulturtage Sachsen-Anhalt - ECPv6.2.6//NONSGML v1.0//EN
CALSCALE:GREGORIAN
METHOD:PUBLISH
X-ORIGINAL-URL:https://archiv2023.jkt-sachsen-anhalt.de
X-WR-CALDESC:Veranstaltungen für Jüdische Kulturtage Sachsen-Anhalt
REFRESH-INTERVAL;VALUE=DURATION:PT1H
X-Robots-Tag:noindex
X-PUBLISHED-TTL:PT1H
BEGIN:VTIMEZONE
TZID:Europe/Berlin
BEGIN:DAYLIGHT
TZOFFSETFROM:+0100
TZOFFSETTO:+0200
TZNAME:CEST
DTSTART:20230326T010000
END:DAYLIGHT
BEGIN:STANDARD
TZOFFSETFROM:+0200
TZOFFSETTO:+0100
TZNAME:CET
DTSTART:20231029T010000
END:STANDARD
END:VTIMEZONE
BEGIN:VEVENT
DTSTART;TZID=Europe/Berlin:20230913T160000
DTEND;TZID=Europe/Berlin:20230913T173000
DTSTAMP:20260421T133842
CREATED:20230703T095119Z
LAST-MODIFIED:20230802T073703Z
UID:10000045-1694620800-1694626200@archiv2023.jkt-sachsen-anhalt.de
SUMMARY:Der Jüdische Friedhof in Magdeburg
DESCRIPTION:An der Geschichte des Jüdischen Friedhofes lässt sich das Schicksal der Magdeburger Jüdischen Gemeinde anschaulich nachvollziehen. Nachdem der erste Friedhof\, der sich in Elbnähe in Buckau befand\, bereits im Jahr 1493 zerstört wurde\, konnte der jetzige Friedhof im Stadtteil Sudenburg im Jahr 1816 eingeweiht werden. In den Folgejahren beständig erweitert\, zählte er im Jahr 1938 über 2000 Grabstellen. Während des 2. Weltkrieges wurde der Jüdische Friedhof teilweise zerstört und in den folgenden Jahren schrittweise wiederhergerichtet. Bei einem Rundgang mit Regina Rehländer über den Friedhof erfahren die Besucher Wissenswertes über jüdische Bräuche und die unter Denkmalschutz stehende Friedhofsanlage.  \n\n\n\nAnmeldung unter VHS Magdeburg
URL:https://archiv2023.jkt-sachsen-anhalt.de/veranstaltung/der-juedische-friedhof-in-magdeburg/
LOCATION:Jüdischer Friedhof Magdeburg\, Fermersleber Weg 46\, Magdeburg\, 39112\, Deutschland
CATEGORIES:Führung
ATTACH;FMTTYPE=image/jpeg:https://archiv2023.jkt-sachsen-anhalt.de/wp-content/uploads/2023/07/51886904071_e03eec8179_o.jpg
END:VEVENT
END:VCALENDAR