BEGIN:VCALENDAR
VERSION:2.0
PRODID:-//Jüdische Kulturtage Sachsen-Anhalt - ECPv6.2.6//NONSGML v1.0//EN
CALSCALE:GREGORIAN
METHOD:PUBLISH
X-ORIGINAL-URL:https://archiv2023.jkt-sachsen-anhalt.de
X-WR-CALDESC:Veranstaltungen für Jüdische Kulturtage Sachsen-Anhalt
REFRESH-INTERVAL;VALUE=DURATION:PT1H
X-Robots-Tag:noindex
X-PUBLISHED-TTL:PT1H
BEGIN:VTIMEZONE
TZID:Europe/Berlin
BEGIN:DAYLIGHT
TZOFFSETFROM:+0100
TZOFFSETTO:+0200
TZNAME:CEST
DTSTART:20230326T010000
END:DAYLIGHT
BEGIN:STANDARD
TZOFFSETFROM:+0200
TZOFFSETTO:+0100
TZNAME:CET
DTSTART:20231029T010000
END:STANDARD
END:VTIMEZONE
BEGIN:VEVENT
DTSTART;TZID=Europe/Berlin:20231017T160000
DTEND;TZID=Europe/Berlin:20231017T170000
DTSTAMP:20260422T131928
CREATED:20230920T200250Z
LAST-MODIFIED:20230920T200459Z
UID:10000126-1697558400-1697562000@archiv2023.jkt-sachsen-anhalt.de
SUMMARY:Konzert in Senioreneinrichtung
DESCRIPTION:Neben den üblichen Konzerten sollen bei den Jüdischen Kulturtagen Sachsen-Anhalt auch Senior:innen in Senioreneinrichtungen auf ihre Kosten kommen. Das Duo Noirinski bestehend aus Leonid Norinsky (Knopfakkordeon\, Gesang) und Ina Norinska (Percussion\, Gesang\, Tanz) gestaltet ein musikalisches Programm. \n\n\n\nDas Konzert findet als geschlossene Veranstaltung in der Senioreneinrichtung statt.
URL:https://archiv2023.jkt-sachsen-anhalt.de/veranstaltung/konzert-in-senioreneinrichtung-3/
LOCATION:SARA Seniorenresidenzen\, OT Wolfen\, Straße der Republik 4\, Bitterfeld-Wolfen\, 06766
CATEGORIES:Konzert
ATTACH;FMTTYPE=image/jpeg:https://archiv2023.jkt-sachsen-anhalt.de/wp-content/uploads/2023/09/Foto-Duo-Norinski.jpg
END:VEVENT
BEGIN:VEVENT
DTSTART;TZID=Europe/Berlin:20231017T180000
DTEND;TZID=Europe/Berlin:20231017T193000
DTSTAMP:20260422T131928
CREATED:20230829T193306Z
LAST-MODIFIED:20230919T150611Z
UID:10000084-1697565600-1697571000@archiv2023.jkt-sachsen-anhalt.de
SUMMARY:Gespräch mit Landesrabbiner Daniel Fabian & Rebbetzin Fabian
DESCRIPTION:Die Rolle der Frau und Familie im traditionellen Judentum \n\n\n\nSieht das Judentum für die Frau eine bestimmte Rolle vor? Welchen Stellenwert hat die Familie? Können traditionelle Auslegungen von Religion in der modernen Gesellschaft noch bestehen und sogar einen Beitrag leisten? Rebbetzin und Rabbiner Fabian freuen sich auf ein gemeinsames Gespräch.
URL:https://archiv2023.jkt-sachsen-anhalt.de/veranstaltung/gespraech-mit-landesrabbiner-daniel-fabian-rebbetzin-fabian/
LOCATION:Freiwilligen-Agentur Altmark e.V. – Kleine Markthalle\, Hallstraße 49\, Hansestadt Stendal\, 39576
CATEGORIES:Vortrag
ATTACH;FMTTYPE=image/jpeg:https://archiv2023.jkt-sachsen-anhalt.de/wp-content/uploads/2023/08/Rabbiner-und-Rebbetzin-Fabian_Foto-privat.jpeg
END:VEVENT
END:VCALENDAR