BEGIN:VCALENDAR
VERSION:2.0
PRODID:-//Jüdische Kulturtage Sachsen-Anhalt - ECPv6.2.6//NONSGML v1.0//EN
CALSCALE:GREGORIAN
METHOD:PUBLISH
X-ORIGINAL-URL:https://archiv2023.jkt-sachsen-anhalt.de
X-WR-CALDESC:Veranstaltungen für Jüdische Kulturtage Sachsen-Anhalt
REFRESH-INTERVAL;VALUE=DURATION:PT1H
X-Robots-Tag:noindex
X-PUBLISHED-TTL:PT1H
BEGIN:VTIMEZONE
TZID:Europe/Berlin
BEGIN:DAYLIGHT
TZOFFSETFROM:+0100
TZOFFSETTO:+0200
TZNAME:CEST
DTSTART:20230326T010000
END:DAYLIGHT
BEGIN:STANDARD
TZOFFSETFROM:+0200
TZOFFSETTO:+0100
TZNAME:CET
DTSTART:20231029T010000
END:STANDARD
END:VTIMEZONE
BEGIN:VEVENT
DTSTART;TZID=Europe/Berlin:20231022T180000
DTEND;TZID=Europe/Berlin:20231022T210000
DTSTAMP:20260420T101416
CREATED:20230829T195102Z
LAST-MODIFIED:20231018T140910Z
UID:10000085-1697997600-1698008400@archiv2023.jkt-sachsen-anhalt.de
SUMMARY:VERSCHOBEN!! Israelabend
DESCRIPTION:Aufgrund der aktuellen Situation muss der Israelabend leider verschoben werden. Ein neuer Termin steht bisher noch nicht fest\, aber wir hoffen\, dass die Veranstaltung in näherer Zukunft stattfinden kann. \n\n\n\nWir halten euch auf dem Laufenden und freuen uns darauf\, euch zu einem späteren Zeitpunkt zu begrüßen. \n\n\n\nDie Veranstaltung findet ganz im Motto des 75-jährigen Bestehens des Staates Israels statt. Neben israelischer Musik der Band L’Chaim erwarten Sie landestypische Snacks und Getränke sowie ein buntes Programm mit spannenden Gesprächen und Darbietungen. \n\n\n\nDie Möglichkeit auf Platzreservierung besteht unter: Reservierungsformular \n\n\n\nDie Übermittlung der Kontaktdaten dient lediglich einer Anfrage für den jeweiligen Termin.Bei Fragen wenden Sie sich an kontakt@jkt-sachsen-anhalt.de
URL:https://archiv2023.jkt-sachsen-anhalt.de/veranstaltung/israelabend/
LOCATION:Capitol Halle\, Lauchstädter Str. 1a\, Halle\, 06110\, Deutschland
CATEGORIES:Konzert
ATTACH;FMTTYPE=image/jpeg:https://archiv2023.jkt-sachsen-anhalt.de/wp-content/uploads/2023/08/LChaim-Band_.jpeg
END:VEVENT
END:VCALENDAR