BEGIN:VCALENDAR
VERSION:2.0
PRODID:-//Jüdische Kulturtage Sachsen-Anhalt - ECPv6.2.6//NONSGML v1.0//EN
CALSCALE:GREGORIAN
METHOD:PUBLISH
X-WR-CALNAME:Jüdische Kulturtage Sachsen-Anhalt
X-ORIGINAL-URL:https://archiv2023.jkt-sachsen-anhalt.de
X-WR-CALDESC:Veranstaltungen für Jüdische Kulturtage Sachsen-Anhalt
REFRESH-INTERVAL;VALUE=DURATION:PT1H
X-Robots-Tag:noindex
X-PUBLISHED-TTL:PT1H
BEGIN:VTIMEZONE
TZID:Europe/Berlin
BEGIN:DAYLIGHT
TZOFFSETFROM:+0100
TZOFFSETTO:+0200
TZNAME:CEST
DTSTART:20230326T010000
END:DAYLIGHT
BEGIN:STANDARD
TZOFFSETFROM:+0200
TZOFFSETTO:+0100
TZNAME:CET
DTSTART:20231029T010000
END:STANDARD
END:VTIMEZONE
BEGIN:VEVENT
DTSTART;TZID=Europe/Berlin:20231126T130000
DTEND;TZID=Europe/Berlin:20231126T150000
DTSTAMP:20260420T133238
CREATED:20230712T092212Z
LAST-MODIFIED:20231029T164350Z
UID:10000059-1701003600-1701010800@archiv2023.jkt-sachsen-anhalt.de
SUMMARY:Süßer jüdischer Kalender in Liedern
DESCRIPTION:Das jüdische Jahr ist reich an Festen und Feiertagen\, die stets die Glaubensinhalte und Etappen der Religionsgeschichte wiederholen und ins Gedächtnis rufen. Wie vor Jahrhunderten\, werden sie auch heute in jüdischen Gemeinden und in jüdischen Familien weltweit gefeiert. Für einige Feiertage gibt es typische Süßspeisen\, die traditionell verzehrt werden. \n\n\n\nWir laden Sie und Euch herzlich dazu ein\, mit uns durch den jüdischen Kalender zu reisen. Dabei werden Sie mehr zu den einzelnen Festen erfahren\, Süßspeisen verkosten und traditionelle Lieder der Feiertage kennenlernen – und vielleicht sogar mit uns gemeinsam singen. \n\n\n\nGeschlossene Veranstaltung auf russisch!
URL:https://archiv2023.jkt-sachsen-anhalt.de/veranstaltung/suesser-juedischer-kalender-in-liedern/
LOCATION:Slawia-Kulturcentrum e.V\, Wilhelm-Külz-Str. 22\, Halle (Saale)\, 06108
CATEGORIES:Küche
ATTACH;FMTTYPE=image/jpeg:https://archiv2023.jkt-sachsen-anhalt.de/wp-content/uploads/2023/07/rosh-hashanah-geb89ada3c_1280.jpg
END:VEVENT
BEGIN:VEVENT
DTSTART;TZID=Europe/Berlin:20231126T150000
DTEND;TZID=Europe/Berlin:20231126T170000
DTSTAMP:20260420T133238
CREATED:20230921T133725Z
LAST-MODIFIED:20231025T083246Z
UID:10000110-1701010800-1701018000@archiv2023.jkt-sachsen-anhalt.de
SUMMARY:Synagogenführung
DESCRIPTION:In der Humboldtstraße befinden sich die Synagoge der Jüdischen Gemeinde zu Halle und der historische jüdische Friedhof der Stadt. Die etwa 90-minütige Führung beginnt mit der Besichtigung der Synagoge\, mit Erklärungen über deren Aufbau\, deren Geschichte und Nutzung. Es besteht zudem die Möglichkeit\, das von Lidia Edel gestaltete Mahnmal zum Anschlag vom 09.10.2019 zu betrachten und die Dr. Hunt H. Unger gewidmete Ausstellung zu besuchen. Darin ist unter anderem ein Channukkaleuchter der 1885 eingeweihten und 1938 zerstörten Synagoge zu besichtigen. Im Anschluss folgt die Führung über den jüdischen Friedhof\, wobei jüdische Bestattungstraditionen sowie der Friedhof selbst vorgestellt werden. \n\n\n\nEine Anmeldung ist für die Teilnahme erforderlich: Anmeldeformular \n\n\n\nDie Übermittlung der Kontaktdaten dient lediglich einer Anfrage für den jeweiligen Termin.Bei Fragen wenden Sie sich an kontakt@jkt-sachsen-anhalt.de \n\n\n\nDie Teilnahmebestätigung erhalten Sie ca. eine Woche vor der Veranstaltung.
URL:https://archiv2023.jkt-sachsen-anhalt.de/veranstaltung/synagogenfuehrung-2/
LOCATION:Synagoge Halle\, Humboldtstraße 52\, Halle\, 06114\, Deutschland
CATEGORIES:Führung
ATTACH;FMTTYPE=image/jpeg:https://archiv2023.jkt-sachsen-anhalt.de/wp-content/uploads/2023/08/LDA-ST-Gunar-Preuss1.jpg
END:VEVENT
BEGIN:VEVENT
DTSTART;TZID=Europe/Berlin:20231126T160000
DTEND;TZID=Europe/Berlin:20231126T180000
DTSTAMP:20260420T133238
CREATED:20231029T163539Z
LAST-MODIFIED:20231029T163920Z
UID:10000148-1701014400-1701021600@archiv2023.jkt-sachsen-anhalt.de
SUMMARY:Süßer jüdischer Kalender in Liedern
DESCRIPTION:Das jüdische Jahr ist reich an Festen und Feiertagen\, die stets die Glaubensinhalte und Etappen der Religionsgeschichte wiederholen und ins Gedächtnis rufen. Wie vor Jahrhunderten\, werden sie auch heute in jüdischen Gemeinden und in jüdischen Familien weltweit gefeiert. Für einige Feiertage gibt es typische Süßspeisen\, die traditionell verzehrt werden. \n\n\n\nWir laden Sie und Euch herzlich dazu ein\, mit uns durch den jüdischen Kalender zu reisen. Dabei werden Sie mehr zu den einzelnen Festen erfahren\, Süßspeisen verkosten und traditionelle Lieder der Feiertage kennenlernen – und vielleicht sogar mit uns gemeinsam singen. \n\n\n\nEine Anmeldung ist erforderlich: Link
URL:https://archiv2023.jkt-sachsen-anhalt.de/veranstaltung/suesser-juedischer-kalender-in-liedern-3/
LOCATION:Stadtmuseum Christian-Wolff-Haus\, Große Märkerstraße 10\, Halle\, 06108\, Deutschland
CATEGORIES:Küche
ATTACH;FMTTYPE=image/jpeg:https://archiv2023.jkt-sachsen-anhalt.de/wp-content/uploads/2023/07/rosh-hashanah-geb89ada3c_1280.jpg
END:VEVENT
END:VCALENDAR