BEGIN:VCALENDAR
VERSION:2.0
PRODID:-//Jüdische Kulturtage Sachsen-Anhalt - ECPv6.2.6//NONSGML v1.0//EN
CALSCALE:GREGORIAN
METHOD:PUBLISH
X-ORIGINAL-URL:https://archiv2023.jkt-sachsen-anhalt.de
X-WR-CALDESC:Veranstaltungen für Jüdische Kulturtage Sachsen-Anhalt
REFRESH-INTERVAL;VALUE=DURATION:PT1H
X-Robots-Tag:noindex
X-PUBLISHED-TTL:PT1H
BEGIN:VTIMEZONE
TZID:Europe/Berlin
BEGIN:DAYLIGHT
TZOFFSETFROM:+0100
TZOFFSETTO:+0200
TZNAME:CEST
DTSTART:20230326T010000
END:DAYLIGHT
BEGIN:STANDARD
TZOFFSETFROM:+0200
TZOFFSETTO:+0100
TZNAME:CET
DTSTART:20231029T010000
END:STANDARD
END:VTIMEZONE
BEGIN:VEVENT
DTSTART;TZID=Europe/Berlin:20230824T193000
DTEND;TZID=Europe/Berlin:20230824T213000
DTSTAMP:20260421T133817
CREATED:20230613T111616Z
LAST-MODIFIED:20230802T073513Z
UID:10000043-1692905400-1692912600@archiv2023.jkt-sachsen-anhalt.de
SUMMARY:Lesung über die deutsch-jüdische Schriftstellerin und Lyrikerin Gertrud Kolmar (1894 Berlin - 1943 Auschwitz) 
DESCRIPTION:Dr. Friederike Heimann liest aus ihrem Buch „In der Feuerkette der Epoche. Über Gertrud Kolmar“ (2023) vor und stellt die Dichterin des frühen 20. Jahrhunderts\, die vor 80 Jahren in Auschwitz ermordet wurde\, in ihren unterschiedlichen Facetten vor. Friederike Heimann studierte Germanistik\, Politologie und Soziologie an der Freien Universität Berlin. Ihr Schwerpunkt ist deutsch-jüdische Literatur\, sie promovierte über Gertrud Kolmar. Seit 2014 engagiert sie sich im Jüdischen Salon am Grindel in Hamburg. Die Veranstaltung ist eine Kooperationsveranstaltung der Moses Mendelssohn Akademie mit der Landeszentrale für politische Bildung Sachsen-Anhalt.  \n\n\n\nWeitere Informationen zu dieser Veranstaltung: https://www.suhrkamp.de/buchpraesentation/friederike-heimann-v-43029
URL:https://archiv2023.jkt-sachsen-anhalt.de/veranstaltung/lesung-ueber-die-deutsch-juedische-schriftstellerin-und-lyrikerin-gertrud-kolmar-1894-berlin-1943-auschwitz/
LOCATION:Klaussynagoge\, Rosenwinkel 18\, Halberstadt\, 38820\, Deutschland
CATEGORIES:Lesung
ATTACH;FMTTYPE=image/jpeg:https://archiv2023.jkt-sachsen-anhalt.de/wp-content/uploads/2023/06/Heimann-Feuerkette.jpg
END:VEVENT
BEGIN:VEVENT
DTSTART;TZID=Europe/Berlin:20230827T140000
DTEND;TZID=Europe/Berlin:20230827T150000
DTSTAMP:20260421T133817
CREATED:20230613T111215Z
LAST-MODIFIED:20230802T073541Z
UID:10000042-1693144800-1693148400@archiv2023.jkt-sachsen-anhalt.de
SUMMARY:Rundgang „Jüdinnen in Halberstadt“
DESCRIPTION:Bis ins 20. Jahrhundert sind Jüdinnen in Halberstadt als Händlerinnen und in anderen Berufen aktiv. Bei einem Spaziergang\, der am Mikwenhaus des Berend Lehmann Museums in der Judenstraße 25/26 beginnt\, wird die Position von Frauen in der jüdischen Religion und Gesellschaft erläutert\, und es wird an herausragende jüdische Frauen\, wie die Armenärztin Edith Goldstein\, die Pädagogin und Malerin Helene Barth/geb. Baer oder an das gesellschaftliche Engagement von Julie Hirsch/geb. Auerbach\, erinnert. \n\n\n\nDer Rundgang dauert in etwa 60 Minuten.
URL:https://archiv2023.jkt-sachsen-anhalt.de/veranstaltung/rundgang-juedinnen-in-halberstadt/
LOCATION:Mikwenhaus\, Judenstr. 25/26\, Halberstadt\, 38820
CATEGORIES:Führung
ATTACH;FMTTYPE=image/jpeg:https://archiv2023.jkt-sachsen-anhalt.de/wp-content/uploads/2023/06/BLM_1.jpg
END:VEVENT
END:VCALENDAR